
BEGIN:VCALENDAR
VERSION:2.0
PRODID:-//Santa Fe Canna Events - ECPv6.15.20//NONSGML v1.0//EN
CALSCALE:GREGORIAN
METHOD:PUBLISH
X-WR-CALNAME:Santa Fe Canna Events
X-ORIGINAL-URL:https://santafecannaevents.com
X-WR-CALDESC:Events for Santa Fe Canna Events
REFRESH-INTERVAL;VALUE=DURATION:PT1H
X-Robots-Tag:noindex
X-PUBLISHED-TTL:PT1H
BEGIN:VTIMEZONE
TZID:America/Denver
BEGIN:DAYLIGHT
TZOFFSETFROM:-0700
TZOFFSETTO:-0600
TZNAME:MDT
DTSTART:20240310T090000
END:DAYLIGHT
BEGIN:STANDARD
TZOFFSETFROM:-0600
TZOFFSETTO:-0700
TZNAME:MST
DTSTART:20241103T080000
END:STANDARD
BEGIN:DAYLIGHT
TZOFFSETFROM:-0700
TZOFFSETTO:-0600
TZNAME:MDT
DTSTART:20250309T090000
END:DAYLIGHT
BEGIN:STANDARD
TZOFFSETFROM:-0600
TZOFFSETTO:-0700
TZNAME:MST
DTSTART:20251102T080000
END:STANDARD
BEGIN:DAYLIGHT
TZOFFSETFROM:-0700
TZOFFSETTO:-0600
TZNAME:MDT
DTSTART:20260308T090000
END:DAYLIGHT
BEGIN:STANDARD
TZOFFSETFROM:-0600
TZOFFSETTO:-0700
TZNAME:MST
DTSTART:20261101T080000
END:STANDARD
BEGIN:DAYLIGHT
TZOFFSETFROM:-0700
TZOFFSETTO:-0600
TZNAME:MDT
DTSTART:20270314T090000
END:DAYLIGHT
BEGIN:STANDARD
TZOFFSETFROM:-0600
TZOFFSETTO:-0700
TZNAME:MST
DTSTART:20271107T080000
END:STANDARD
END:VTIMEZONE
BEGIN:VEVENT
DTSTART;TZID=America/Denver:20260212T160000
DTEND;TZID=America/Denver:20260212T180000
DTSTAMP:20260425T114839
CREATED:20260122T153657Z
LAST-MODIFIED:20260128T164425Z
UID:61938-1770912000-1770919200@santafecannaevents.com
SUMMARY:High Libido\, Happy Heart: A Valentine’s Cannabis Education Night
DESCRIPTION:Join Santa Fe Canna Events at Kure Dispensary (Guadalupe location) for a Valentine’s themed cannabis education experience focused on healthy libido and nervous system balance. This intimate session will spotlight First Crop’s Happy and Calm gummy formulas and how supporting the central nervous system can help the body relax and naturally enhance libido. \nLearn how to choose and dose these gummies responsibly\, ask questions in a stigma-free setting\, and pick up tips for incorporating plant medicine into a mindful\, pleasure-positive wellness routine. This Santa Fe Canna Events gathering is proudly sponsored by Kure Dispensary in Santa Fe.
URL:https://santafecannaevents.com/event/high-libido-happy-heart-a-valentines-cannabis-education-night/
LOCATION:Kure Dispensary Guadalupe location\, 220 N Guadalupe Street\, Santa Fe\, New Mexico\, 87501
ORGANIZER;CN="Santa Fe Canna Events":MAILTO:info@santafecannaevents.com
END:VEVENT
BEGIN:VEVENT
DTSTART;TZID=America/Denver:20251211T163000
DTEND;TZID=America/Denver:20251211T200000
DTSTAMP:20260425T114839
CREATED:20251110T015403Z
LAST-MODIFIED:20251211T154646Z
UID:61257-1765470600-1765483200@santafecannaevents.com
SUMMARY:A Very Merry CRISPmas: A Holiday Launch Party
DESCRIPTION:Join us for a decadent evening of spicy flavors and holiday cheer! Enjoy Asian–New Mexican bites\, festive drinks\, passed appetizers\, and the exclusive debut of Christmas Crisp! \nCelebrate the Grand Opening of Green Chile Crisp! Hosted in collaboration with Santa Fe Canna Events\, The Kitchen Table Santa Fe\, and Potato Cat Bakery\, your evening will feature an indulgent tasting menu designed to showcase the versatility and depth of these little jars of joy. \nCome anytime between 4:30–8:00 PM. Your ticket also includes two drinks (not including the Toasted Toddy). \n✨ Tasting Menu ✨\nSmashed Cucumbers with Green Chile CrispBright\, crunchy\, umami-packed cucumbers with a perfect kick of heat! Recipe inspired by Green Chile Crisp founder Lorraine Chow’s beloved 爷爷 (grandfather). \nJammy Egg with Green Chile CrispSoft\, yolky goodness on a bed of rice with a sprinkle of Green Chile Crisp. \nButternut Squash Soup with Christmas CrispA warm\, golden bowl of roasted squash crowned with crunchy pepitas and a drizzle of the exclusive Christmas Crisp. \nGreen Chile Crisp Slider & FriesJuicy\, savory\, spicy\, and totally New Mexican. Served with crispy shoestring fries and Green Chile Crisp aioli. \nChristmas Crisp Dessert by Potato Cat BakeryA delectable sweet finish crafted by the talented Karol Chin of Potato Cat Bakery. \n✨ Add-On Drink ✨\nWarm up with a soothing CBD Toasted Toddy\, infused with Santa Fe Canna Events’ signature CBD blend and cozy aromatics that complement the evening’s flavors. Be sure to add this delicious upgrade at checkout! \nAllergies or preferences? We’ve got you. Just note them at checkout or let us know at the party. \nA limited number of jars of both Christmas Crisp and Green Chile Crisp will also be available for purchase during the event\, so arrive early to snag yours!
URL:https://santafecannaevents.com/event/a-very-merry-crispmas/
LOCATION:The Kitchen Table Santa Fe\, 313 Camino Alire\, Santa Fe\, NM\, 87501\, United States
ORGANIZER;CN="Santa Fe Canna Events":MAILTO:info@santafecannaevents.com
END:VEVENT
END:VCALENDAR